BEGIN:VCALENDAR
VERSION:2.0
PRODID:-//Princeton, NJ local news - ECPv6.15.20//NONSGML v1.0//EN
CALSCALE:GREGORIAN
METHOD:PUBLISH
X-ORIGINAL-URL:https://planetprinceton.com
X-WR-CALDESC:Events for Princeton, NJ local news
REFRESH-INTERVAL;VALUE=DURATION:PT1H
X-Robots-Tag:noindex
X-PUBLISHED-TTL:PT1H
BEGIN:VTIMEZONE
TZID:America/New_York
BEGIN:DAYLIGHT
TZOFFSETFROM:-0500
TZOFFSETTO:-0400
TZNAME:EDT
DTSTART:20250309T070000
END:DAYLIGHT
BEGIN:STANDARD
TZOFFSETFROM:-0400
TZOFFSETTO:-0500
TZNAME:EST
DTSTART:20251102T060000
END:STANDARD
BEGIN:DAYLIGHT
TZOFFSETFROM:-0500
TZOFFSETTO:-0400
TZNAME:EDT
DTSTART:20260308T070000
END:DAYLIGHT
BEGIN:STANDARD
TZOFFSETFROM:-0400
TZOFFSETTO:-0500
TZNAME:EST
DTSTART:20261101T060000
END:STANDARD
BEGIN:DAYLIGHT
TZOFFSETFROM:-0500
TZOFFSETTO:-0400
TZNAME:EDT
DTSTART:20270314T070000
END:DAYLIGHT
BEGIN:STANDARD
TZOFFSETFROM:-0400
TZOFFSETTO:-0500
TZNAME:EST
DTSTART:20271107T060000
END:STANDARD
END:VTIMEZONE
BEGIN:VEVENT
DTSTART;TZID=America/New_York:20260201T170000
DTEND;TZID=America/New_York:20260201T190000
DTSTAMP:20260422T175137
CREATED:20260115T161506Z
LAST-MODIFIED:20260115T161506Z
UID:10053798-1769965200-1769972400@planetprinceton.com
SUMMARY:Restoring Works of Art
DESCRIPTION:Restoration is defined as the act of returning something to a former condition\, which raises many complex questions when applied to the restoration of historical artifacts and works of art. And why do we restore works of art at all? Bart Devolder\, chief conservator of the Princeton University Art Museum\, will discuss these issues\, using several case studies including works created in Italy. Devolder will illustrate that restoring a work of art to its former glory is not always straightforward. \nParticipants are encouraged to bring refreshments to share at a post-program reception. Doors open at 4:45 p.m.
URL:https://planetprinceton.com/event/restoring-works-of-art/
LOCATION:Dorothea’s House\, 120 John Street\, Princeton\, NJ\, 08540\, United States
CATEGORIES:Arts at Work,Lectures & Discussions
ORGANIZER;CN="Dorothea's House":MAILTO:marialobiondo@dorotheashouse.org
GEO:40.352013;-74.663335
X-APPLE-STRUCTURED-LOCATION;VALUE=URI;X-ADDRESS=Dorothea’s House 120 John Street Princeton NJ 08540 United States;X-APPLE-RADIUS=500;X-TITLE=120 John Street:geo:-74.663335,40.352013
END:VEVENT
END:VCALENDAR