BEGIN:VCALENDAR
VERSION:2.0
PRODID:-//Princeton, NJ local news - ECPv6.15.20//NONSGML v1.0//EN
CALSCALE:GREGORIAN
METHOD:PUBLISH
X-ORIGINAL-URL:https://planetprinceton.com
X-WR-CALDESC:Events for Princeton, NJ local news
REFRESH-INTERVAL;VALUE=DURATION:PT1H
X-Robots-Tag:noindex
X-PUBLISHED-TTL:PT1H
BEGIN:VTIMEZONE
TZID:America/New_York
BEGIN:DAYLIGHT
TZOFFSETFROM:-0500
TZOFFSETTO:-0400
TZNAME:EDT
DTSTART:20250309T070000
END:DAYLIGHT
BEGIN:STANDARD
TZOFFSETFROM:-0400
TZOFFSETTO:-0500
TZNAME:EST
DTSTART:20251102T060000
END:STANDARD
BEGIN:DAYLIGHT
TZOFFSETFROM:-0500
TZOFFSETTO:-0400
TZNAME:EDT
DTSTART:20260308T070000
END:DAYLIGHT
BEGIN:STANDARD
TZOFFSETFROM:-0400
TZOFFSETTO:-0500
TZNAME:EST
DTSTART:20261101T060000
END:STANDARD
BEGIN:DAYLIGHT
TZOFFSETFROM:-0500
TZOFFSETTO:-0400
TZNAME:EDT
DTSTART:20270314T070000
END:DAYLIGHT
BEGIN:STANDARD
TZOFFSETFROM:-0400
TZOFFSETTO:-0500
TZNAME:EST
DTSTART:20271107T060000
END:STANDARD
END:VTIMEZONE
BEGIN:VEVENT
DTSTART;TZID=America/New_York:20260411T100000
DTEND;TZID=America/New_York:20260411T110000
DTSTAMP:20260425T102656
CREATED:20260218T132413Z
LAST-MODIFIED:20260218T132413Z
UID:10054235-1775901600-1775905200@planetprinceton.com
SUMMARY:Read and Explore: Composting
DESCRIPTION:Terhune Orchards’ Read and Explore Program is a winter education series designed to engage young learners through stories\, hands-on activities\, and seasonal farm learning. The program follows the popular Read and Pick Program. This session focuses on Composting\, introducing children to the idea of turning everyday “garbage” into healthy\, life-giving soil. Each child will make their own compost container to take home. \nhttps://terhuneorchards.ticketspice.com/2026readexplore
URL:https://planetprinceton.com/event/read-and-explore-composting/2026-04-11/
LOCATION:Terhune Orchards\, 330 Cold Soil Road\, Princeton\, NJ\, 08540\, United States
CATEGORIES:Books & Reading,Environment & Nature,Food & Farms
ATTACH;FMTTYPE=image/jpeg:https://planetprinceton.com/wp-content/uploads/2026/02/Read-Explore-Composting-Digging-scaled.jpg
ORGANIZER;CN="Terhune Orchards":MAILTO:info@terhuneorchards.com
GEO:40.331905;-74.725875
X-APPLE-STRUCTURED-LOCATION;VALUE=URI;X-ADDRESS=Terhune Orchards 330 Cold Soil Road Princeton NJ 08540 United States;X-APPLE-RADIUS=500;X-TITLE=330 Cold Soil Road:geo:-74.725875,40.331905
END:VEVENT
BEGIN:VEVENT
DTSTART;TZID=America/New_York:20260405T100000
DTEND;TZID=America/New_York:20260405T160000
DTSTAMP:20260425T102656
CREATED:20260222T195105Z
LAST-MODIFIED:20260222T195105Z
UID:10054240-1775383200-1775404800@planetprinceton.com
SUMMARY:Bunny Trail Spring Festival
DESCRIPTION:Celebrate the arrival of spring at Terhune Orchards’ Bunny Trail Spring Festival\, held Easter weekend: April 4th & 5th from 10 am to 4 pm. This family-friendly\, non-competitive event invites guests to follow a treasure hunt through the blooming farm\, ending with a prize and an optional bunny craft activity. \nHave a great time playing on the farm- children can enjoy a variety of activities\, including: visiting the hippity hop corral\, pony rides\, duckie races\, and the tractor play area. Don’t miss interactive games like hopscotch and hula hoops. \nHungry visitors can head to the Farm Food Pavilion for homemade treats like apple cider donuts\, chili\, and pies\, while adults can enjoy wine tastings at the Vineyard and Winery.  \nAdmission tickets should be purchased online in advance. It’s the perfect way to welcome the season with live music and outdoor fun!
URL:https://planetprinceton.com/event/bunny-trail-spring-festival/2026-04-05/
LOCATION:Terhune Orchards\, 330 Cold Soil Road\, Princeton\, NJ\, 08540\, United States
CATEGORIES:Festivals and Holidays,Food & Farms,For Kids,Ticketed Event
ATTACH;FMTTYPE=image/jpeg:https://planetprinceton.com/wp-content/uploads/2026/02/Bunny-Trail-wooden-bunny-scaled.jpg
ORGANIZER;CN="Terhune Orchards":MAILTO:info@terhuneorchards.com
GEO:40.331905;-74.725875
X-APPLE-STRUCTURED-LOCATION;VALUE=URI;X-ADDRESS=Terhune Orchards 330 Cold Soil Road Princeton NJ 08540 United States;X-APPLE-RADIUS=500;X-TITLE=330 Cold Soil Road:geo:-74.725875,40.331905
END:VEVENT
BEGIN:VEVENT
DTSTART;TZID=America/New_York:20260405T090000
DTEND;TZID=America/New_York:20260405T113000
DTSTAMP:20260425T102656
CREATED:20251206T223708Z
LAST-MODIFIED:20251206T223708Z
UID:10053173-1775379600-1775388600@planetprinceton.com
SUMMARY:May’s Barden Café at Herrontown Woods
DESCRIPTION:Freshly brewed coffee and homemade treats at a delightful pop-up café in the Woods. Join community members at the Botanical Art Garden (Barden)\, next to the main parking lot\, 600 Snowden Lane. All proceeds support stewardship and programming at Herrontown Woods! \n(In the event of inclement weather\, check with the Herrontown Woods folks to see if the event is still on.)
URL:https://planetprinceton.com/event/mays-barden-cafe-at-herrontown-woods/2026-04-05/
LOCATION:Herrontown Woods\, NJ\, United States
CATEGORIES:Environment & Nature,Food & Farms
ATTACH;FMTTYPE=image/jpeg:https://planetprinceton.com/wp-content/uploads/2023/08/Mays-Barden-Cafe.jpg
END:VEVENT
BEGIN:VEVENT
DTSTART;TZID=America/New_York:20260321T120000
DTEND;TZID=America/New_York:20260321T170000
DTSTAMP:20260425T102656
CREATED:20260204T130112Z
LAST-MODIFIED:20260204T130112Z
UID:10054221-1774094400-1774112400@planetprinceton.com
SUMMARY:Wine & Chocolate Weekend
DESCRIPTION:Bring your favorite wine and chocolate lovers to sample Terhune Orchards’ award-winning wines. For this encore chocolate weekend\, Terhune is offering a special wine and chocolate pairing of locally made chocolates and Terhune wines. Chocolate pairing includes wine flight\, chocolates and a souvenir glass. Terhune has partnered with Pierre’s Chocolates of New Hope\, PA known for their old-world recipes and single-origin artisan chocolates. Homemade fare and light bites are also available.  \nCatch up with friends by the fire pit outside the winery or inside the cozy wine barn. Enjoy live music from 1pm-4pm.
URL:https://planetprinceton.com/event/wine-chocolate-weekend-2/
LOCATION:Terhune Orchards\, 330 Cold Soil Road\, Princeton\, NJ\, 08540\, United States
CATEGORIES:Food & Farms,Princeton
ATTACH;FMTTYPE=image/jpeg:https://planetprinceton.com/wp-content/uploads/2026/02/Wine-and-Chocolate-scaled.jpg
ORGANIZER;CN="Terhune Orchards":MAILTO:info@terhuneorchards.com
GEO:40.331905;-74.725875
X-APPLE-STRUCTURED-LOCATION;VALUE=URI;X-ADDRESS=Terhune Orchards 330 Cold Soil Road Princeton NJ 08540 United States;X-APPLE-RADIUS=500;X-TITLE=330 Cold Soil Road:geo:-74.725875,40.331905
END:VEVENT
BEGIN:VEVENT
DTSTART;TZID=America/New_York:20260208T120000
DTEND;TZID=America/New_York:20260208T170000
DTSTAMP:20260425T102656
CREATED:20260115T161506Z
LAST-MODIFIED:20260115T161506Z
UID:10053797-1770552000-1770570000@planetprinceton.com
SUMMARY:Wine & Chocolate Weekend
DESCRIPTION:Visit us at Terhune Orchards Vineyard and Winery tasting room as we start the celebration of Valentine’s Day. Enjoy chocolate baked goods homemade from Terhune’s own bakery which are delicious with our award-winning wines. Bring your loved one\, friends and family to enjoy sweet treats. \nFor this weekend\, we are offering a special wine and chocolate pairing of locally made chocolates and Terhune wines. Chocolate pairing includes wine flight\, chocolates and a souvenir glass. We have partnered with Pierre’s Chocolates of New Hope\, PA known for their old-world recipes and single-origin artisan chocolates \nCatch up with friends by the fire pit outside the winery. Inside the cozy wine barn\, enjoy our 18 wine varieties. Enjoy live music from 1pm-4pm. 
URL:https://planetprinceton.com/event/wine-chocolate-weekend/2026-02-08/
LOCATION:Terhune Orchards\, 330 Cold Soil Road\, Princeton\, NJ\, 08540\, United States
CATEGORIES:Food & Farms,Wineries, Breweries, Distilleries
ATTACH;FMTTYPE=image/jpeg:https://planetprinceton.com/wp-content/uploads/2026/01/Wine-and-Chocolate-Sign-scaled.jpg
ORGANIZER;CN="Terhune Orchards":MAILTO:info@terhuneorchards.com
GEO:40.331905;-74.725875
X-APPLE-STRUCTURED-LOCATION;VALUE=URI;X-ADDRESS=Terhune Orchards 330 Cold Soil Road Princeton NJ 08540 United States;X-APPLE-RADIUS=500;X-TITLE=330 Cold Soil Road:geo:-74.725875,40.331905
END:VEVENT
END:VCALENDAR