BEGIN:VCALENDAR
VERSION:2.0
PRODID:-//Princeton, NJ local news - ECPv6.15.20//NONSGML v1.0//EN
CALSCALE:GREGORIAN
METHOD:PUBLISH
X-ORIGINAL-URL:https://planetprinceton.com
X-WR-CALDESC:Events for Princeton, NJ local news
REFRESH-INTERVAL;VALUE=DURATION:PT1H
X-Robots-Tag:noindex
X-PUBLISHED-TTL:PT1H
BEGIN:VTIMEZONE
TZID:America/New_York
BEGIN:DAYLIGHT
TZOFFSETFROM:-0500
TZOFFSETTO:-0400
TZNAME:EDT
DTSTART:20250309T070000
END:DAYLIGHT
BEGIN:STANDARD
TZOFFSETFROM:-0400
TZOFFSETTO:-0500
TZNAME:EST
DTSTART:20251102T060000
END:STANDARD
BEGIN:DAYLIGHT
TZOFFSETFROM:-0500
TZOFFSETTO:-0400
TZNAME:EDT
DTSTART:20260308T070000
END:DAYLIGHT
BEGIN:STANDARD
TZOFFSETFROM:-0400
TZOFFSETTO:-0500
TZNAME:EST
DTSTART:20261101T060000
END:STANDARD
BEGIN:DAYLIGHT
TZOFFSETFROM:-0500
TZOFFSETTO:-0400
TZNAME:EDT
DTSTART:20270314T070000
END:DAYLIGHT
BEGIN:STANDARD
TZOFFSETFROM:-0400
TZOFFSETTO:-0500
TZNAME:EST
DTSTART:20271107T060000
END:STANDARD
END:VTIMEZONE
BEGIN:VEVENT
DTSTART;TZID=America/New_York:20260202T100000
DTEND;TZID=America/New_York:20260202T140000
DTSTAMP:20260422T175232
CREATED:20251212T202153Z
LAST-MODIFIED:20251212T205914Z
UID:10053237-1770026400-1770040800@planetprinceton.com
SUMMARY:Friends of the Lawrence Library January Book Sale
DESCRIPTION:Dates:• Early Admission: Thursday\, January 29\, 1–4 p.m.• General Sale: Friday\, January 30–Monday\, February 2 \nLocation:Lawrence Headquarters Branch\, Mercer County Library System2751 Brunswick Pike\, Lawrenceville\, NJ \nThe Friends of the Lawrence Library will hold their January Book Sale featuring thousands of used\, gently read books for all ages. The sale opens to the public on Friday\, January 30 at 10 a.m. and continues through Monday\, February 2 at 2 p.m. Payment is accepted by cash\, check\, or Zelle. \nEarly Admission\nAn early admission event will be held Thursday\, January 29 from 1 to 4 p.m.• Free for Friends members• $5 for the general public• $20 for patrons with scannersThis is the only time scanning devices are permitted. \nGeneral Admission\nBeginning Friday\, January 30 at 10 a.m.\, entry is free and open to all. No scanning devices allowed.Hours:• Friday–Saturday: 10 a.m.–4:30 p.m.• Sunday: 12:30–4:30 p.m.• Monday: 10 a.m.–2 p.m. \nSunday and Monday feature a $5-per-bag sale. Attendees should bring their own bags. \nBook donations are currently being accepted at the Lawrence Headquarters Branch. Proceeds from the sale support programs and services offered by the Lawrence Library. \nFor more information\, call 609-883-8294 or visit www.mcl.org.
URL:https://planetprinceton.com/event/friends-of-the-lawrence-library-january-book-sale/2026-02-02/
LOCATION:Lawrence Branch\, Mercer County Library\, 2751 Brunswick Pike\, Lawrence\, NJ\, 08648\, United States
CATEGORIES:Books & Reading,Fundraisers & Galas
END:VEVENT
END:VCALENDAR