BEGIN:VCALENDAR
VERSION:2.0
PRODID:-//Princeton, NJ local news - ECPv6.15.20//NONSGML v1.0//EN
CALSCALE:GREGORIAN
METHOD:PUBLISH
X-ORIGINAL-URL:https://planetprinceton.com
X-WR-CALDESC:Events for Princeton, NJ local news
REFRESH-INTERVAL;VALUE=DURATION:PT1H
X-Robots-Tag:noindex
X-PUBLISHED-TTL:PT1H
BEGIN:VTIMEZONE
TZID:America/New_York
BEGIN:DAYLIGHT
TZOFFSETFROM:-0500
TZOFFSETTO:-0400
TZNAME:EDT
DTSTART:20250309T070000
END:DAYLIGHT
BEGIN:STANDARD
TZOFFSETFROM:-0400
TZOFFSETTO:-0500
TZNAME:EST
DTSTART:20251102T060000
END:STANDARD
BEGIN:DAYLIGHT
TZOFFSETFROM:-0500
TZOFFSETTO:-0400
TZNAME:EDT
DTSTART:20260308T070000
END:DAYLIGHT
BEGIN:STANDARD
TZOFFSETFROM:-0400
TZOFFSETTO:-0500
TZNAME:EST
DTSTART:20261101T060000
END:STANDARD
BEGIN:DAYLIGHT
TZOFFSETFROM:-0500
TZOFFSETTO:-0400
TZNAME:EDT
DTSTART:20270314T070000
END:DAYLIGHT
BEGIN:STANDARD
TZOFFSETFROM:-0400
TZOFFSETTO:-0500
TZNAME:EST
DTSTART:20271107T060000
END:STANDARD
END:VTIMEZONE
BEGIN:VEVENT
DTSTART;TZID=America/New_York:20260421T110000
DTEND;TZID=America/New_York:20260421T120000
DTSTAMP:20260425T143511
CREATED:20260225T003731Z
LAST-MODIFIED:20260225T003731Z
UID:10054250-1776769200-1776772800@planetprinceton.com
SUMMARY:Read & Pick: Growing a Garden of Goodies
DESCRIPTION:Earth Day kicks off our season of Read & Pick this year. Read & Pick is an innovative program that combines hands-on farm activity with your young child followed by an education program with stories highlighting the fruit or farm area. \nFor Earth Day\, we welcome young farmers to celebrate planting time\, gardens and nature bounty. We will be reading books highlighting gardening and growing followed by an educational component.  Then everyone will be a farmer and plant seeds to take home.  \n The cost is $12.00 per child and includes the activity. There are two sessions on  Tuesdays at 9:30 am and 11 am\, lasting about one hour. Online pre-purchase of tickets is required. \nRegister at: https://terhuneorchards.ticketspice.com/read-pick
URL:https://planetprinceton.com/event/read-pick-growing-a-garden-of-goodies/2026-04-21/2/
LOCATION:Terhune Orchards\, 330 Cold Soil Road\, Princeton\, NJ\, 08540\, United States
CATEGORIES:Books & Reading,Classes & Workhops,For Kids
ATTACH;FMTTYPE=image/jpeg:https://planetprinceton.com/wp-content/uploads/2026/02/Read-Pick-Garden-Seed-Planting-scaled.jpg
ORGANIZER;CN="Terhune Orchards":MAILTO:info@terhuneorchards.com
GEO:40.331905;-74.725875
X-APPLE-STRUCTURED-LOCATION;VALUE=URI;X-ADDRESS=Terhune Orchards 330 Cold Soil Road Princeton NJ 08540 United States;X-APPLE-RADIUS=500;X-TITLE=330 Cold Soil Road:geo:-74.725875,40.331905
END:VEVENT
BEGIN:VEVENT
DTSTART;TZID=America/New_York:20260418T100000
DTEND;TZID=America/New_York:20260418T110000
DTSTAMP:20260425T143511
CREATED:20260414T031650Z
LAST-MODIFIED:20260414T031650Z
UID:10054456-1776506400-1776510000@planetprinceton.com
SUMMARY:Story time & Craft at the Museum
DESCRIPTION:Join us in Discovery Den every 3rd Saturday of the month at 10:00 am to hear a story and make a craft to take home. Story Time is for children ages 2-8 and their caregivers. This month we’re reading “Here We Are: Notes for Living on Planet Earth” by Oliver Jeffers\, then we’ll make a related craft. \n 
URL:https://planetprinceton.com/event/story-time-craft-at-the-museum/
LOCATION:New Jersey State Museum\, 205 W. State Street\, Trenton\, NJ\, 08706\, United States
CATEGORIES:For Kids,Free
ATTACH;FMTTYPE=image/jpeg:https://planetprinceton.com/wp-content/uploads/2026/04/Here-We-Are-Story-Time-April-26-scaled.jpg
ORGANIZER;CN="New Jersey State Museum":MAILTO:njsm.info@sos.nj.gov
END:VEVENT
BEGIN:VEVENT
DTSTART;TZID=America/New_York:20260405T100000
DTEND;TZID=America/New_York:20260405T160000
DTSTAMP:20260425T143511
CREATED:20260222T195105Z
LAST-MODIFIED:20260222T195105Z
UID:10054240-1775383200-1775404800@planetprinceton.com
SUMMARY:Bunny Trail Spring Festival
DESCRIPTION:Celebrate the arrival of spring at Terhune Orchards’ Bunny Trail Spring Festival\, held Easter weekend: April 4th & 5th from 10 am to 4 pm. This family-friendly\, non-competitive event invites guests to follow a treasure hunt through the blooming farm\, ending with a prize and an optional bunny craft activity. \nHave a great time playing on the farm- children can enjoy a variety of activities\, including: visiting the hippity hop corral\, pony rides\, duckie races\, and the tractor play area. Don’t miss interactive games like hopscotch and hula hoops. \nHungry visitors can head to the Farm Food Pavilion for homemade treats like apple cider donuts\, chili\, and pies\, while adults can enjoy wine tastings at the Vineyard and Winery.  \nAdmission tickets should be purchased online in advance. It’s the perfect way to welcome the season with live music and outdoor fun!
URL:https://planetprinceton.com/event/bunny-trail-spring-festival/2026-04-05/
LOCATION:Terhune Orchards\, 330 Cold Soil Road\, Princeton\, NJ\, 08540\, United States
CATEGORIES:Festivals and Holidays,Food & Farms,For Kids,Ticketed Event
ATTACH;FMTTYPE=image/jpeg:https://planetprinceton.com/wp-content/uploads/2026/02/Bunny-Trail-wooden-bunny-scaled.jpg
ORGANIZER;CN="Terhune Orchards":MAILTO:info@terhuneorchards.com
GEO:40.331905;-74.725875
X-APPLE-STRUCTURED-LOCATION;VALUE=URI;X-ADDRESS=Terhune Orchards 330 Cold Soil Road Princeton NJ 08540 United States;X-APPLE-RADIUS=500;X-TITLE=330 Cold Soil Road:geo:-74.725875,40.331905
END:VEVENT
BEGIN:VEVENT
DTSTART;TZID=America/New_York:20260221T100000
DTEND;TZID=America/New_York:20260221T110000
DTSTAMP:20260425T143511
CREATED:20260204T130110Z
LAST-MODIFIED:20260204T130110Z
UID:10053816-1771668000-1771671600@planetprinceton.com
SUMMARY:Read and Explore: Fur\, Feathers\, Fluff: Keeping Warm in Winter
DESCRIPTION:Terhune Orchards Read and Explore Program is our winter education series\, following the popular seasonal Read and Pick Program.  For our third Read and Explore program learn about how animals keep themselves warm in winter. We will read two stories about animals; explore the sense of touch with wool\, feathers\, etc. Each child will make a paper bag animal to take home with lots of “fluff.”  \nPlease register online https://terhuneorchards.ticketspice.com/2026readexplore \n$12.00 per child includes activity. 
URL:https://planetprinceton.com/event/read-and-explore-fur-feathers-fluff-keeping-warm-in-winter/2026-02-21/
LOCATION:Terhune Orchards\, 330 Cold Soil Road\, Princeton\, NJ\, 08540\, United States
CATEGORIES:Books & Reading,Environment & Nature,family,For Kids,Just for Kids
ATTACH;FMTTYPE=image/jpeg:https://planetprinceton.com/wp-content/uploads/2026/01/Read-Explore-Keeping-Warm.jpg
ORGANIZER;CN="Terhune Orchards":MAILTO:info@terhuneorchards.com
GEO:40.331905;-74.725875
X-APPLE-STRUCTURED-LOCATION;VALUE=URI;X-ADDRESS=Terhune Orchards 330 Cold Soil Road Princeton NJ 08540 United States;X-APPLE-RADIUS=500;X-TITLE=330 Cold Soil Road:geo:-74.725875,40.331905
END:VEVENT
BEGIN:VEVENT
DTSTART;TZID=America/New_York:20260215T100000
DTEND;TZID=America/New_York:20260215T120000
DTSTAMP:20260425T143511
CREATED:20260218T132413Z
LAST-MODIFIED:20260218T132413Z
UID:10054227-1771149600-1771156800@planetprinceton.com
SUMMARY:Family Day at Morven: If You Want a Friend in Princeton
DESCRIPTION:If you want a friend in Princeton…drop in for a family day at Morven. Visit a home that’s over 250 years old\, and become part of the stories of everyone who lived within its walls. \nThe day will feature activities and crafts for all ages\, such as scavenger hunts\, clay sculpting\, zine making\, and storytimes (10:30 and 11:30 am\, highlighting stories exploring Black History Month and Presidents’ Day for different age groups). Snacks and juice provided!  \nYou’re welcome to drop-in when you can; pre-registration is appreciated. 
URL:https://planetprinceton.com/event/family-day-at-morven-if-you-want-a-friend-in-princeton/
LOCATION:Morven Museum & Garden\, 55 Stockton Street\, Princeton\, NJ\, 08540\, United States
CATEGORIES:family,For Kids
ATTACH;FMTTYPE=image/jpeg:https://planetprinceton.com/wp-content/uploads/2026/02/Family-Day-600x450-1.jpg
ORGANIZER;CN="Morven Museum &amp%3B Garden":MAILTO:marquandparkfoundation@gmail.com
END:VEVENT
BEGIN:VEVENT
DTSTART;TZID=America/New_York:20260214T093000
DTEND;TZID=America/New_York:20260214T101500
DTSTAMP:20260425T143511
CREATED:20260115T161426Z
LAST-MODIFIED:20260115T161426Z
UID:10053801-1771061400-1771064100@planetprinceton.com
SUMMARY:Small Explorers Learning Together - Colors & Feelings
DESCRIPTION:Small Explorers Learning Together is the Museum’s program for children ages 1 – 5 years old and their caregiver(s). The class is offered on the 2nd Saturday or the following Thursday\, both at 9:30 am. In this month’s class\, children will learn how to use sight to find colors in works of art. They’ll be introduced to how color is connected to emotions and how they can use colors to express themselves in new ways. Children will practice identifying colors and strengthen fine motor skills through activities that use the senses\, specifically sight and touch.  We’ll read “I Don’t Draw\, I Color!” \nCost: Classes are $20.00 per child. Each additional sibling receives a 20% discount. Caregivers attend free. Advance registration is required; complete details and registration can be found at this link: https://events.humanitix.com/small-explorers-learning-together-february-program
URL:https://planetprinceton.com/event/small-explorers-learning-together-colors-feelings/
LOCATION:New Jersey State Museum\, 205 W. State Street\, Trenton\, NJ\, 08706\, United States
CATEGORIES:Education,family,For Kids,Mercer County
ATTACH;FMTTYPE=image/jpeg:https://planetprinceton.com/wp-content/uploads/2026/01/Sm.Explor.LearningTime.jpg
ORGANIZER;CN="New Jersey State Museum":MAILTO:njsm.info@sos.nj.gov
END:VEVENT
BEGIN:VEVENT
DTSTART;TZID=America/New_York:20260131T100000
DTEND;TZID=America/New_York:20260131T110000
DTSTAMP:20260425T143511
CREATED:20251222T215327Z
LAST-MODIFIED:20251222T215327Z
UID:10053618-1769853600-1769857200@planetprinceton.com
SUMMARY:Read and Explore: Animal Tracks
DESCRIPTION:Terhune Orchards Read and Explore Program is our winter education series\, following the popular seasonal Read and Pick Program.  The second Read and Explore program is Animal Tracks. Educators will read books about animals in winter and talk about wintertime in nature. After story time\, we will make bird feeders with wild bird seed for everyone to take home and help the birds through winter. Weather permitting\, we’ll visit our farm animals and see if we can match tracks to each \nPlease register online https://terhuneorchards.ticketspice.com/2026readexplore \n$12.00 per child includes activity. 
URL:https://planetprinceton.com/event/read-and-explore-animal-tracks/2026-01-31/
LOCATION:Terhune Orchards\, 330 Cold Soil Road\, Princeton\, NJ\, 08540\, United States
CATEGORIES:Books & Reading,family,For Kids
ATTACH;FMTTYPE=image/jpeg:https://planetprinceton.com/wp-content/uploads/2025/12/Read-and-Explore-Animal-Tracks.jpg
ORGANIZER;CN="Terhune Orchards":MAILTO:info@terhuneorchards.com
GEO:40.331905;-74.725875
X-APPLE-STRUCTURED-LOCATION;VALUE=URI;X-ADDRESS=Terhune Orchards 330 Cold Soil Road Princeton NJ 08540 United States;X-APPLE-RADIUS=500;X-TITLE=330 Cold Soil Road:geo:-74.725875,40.331905
END:VEVENT
END:VCALENDAR