BEGIN:VCALENDAR
VERSION:2.0
PRODID:-//Princeton, NJ local news - ECPv6.15.20//NONSGML v1.0//EN
CALSCALE:GREGORIAN
METHOD:PUBLISH
X-WR-CALNAME:Princeton, NJ local news
X-ORIGINAL-URL:https://planetprinceton.com
X-WR-CALDESC:Events for Princeton, NJ local news
REFRESH-INTERVAL;VALUE=DURATION:PT1H
X-Robots-Tag:noindex
X-PUBLISHED-TTL:PT1H
BEGIN:VTIMEZONE
TZID:America/New_York
BEGIN:DAYLIGHT
TZOFFSETFROM:-0500
TZOFFSETTO:-0400
TZNAME:EDT
DTSTART:20250309T070000
END:DAYLIGHT
BEGIN:STANDARD
TZOFFSETFROM:-0400
TZOFFSETTO:-0500
TZNAME:EST
DTSTART:20251102T060000
END:STANDARD
BEGIN:DAYLIGHT
TZOFFSETFROM:-0500
TZOFFSETTO:-0400
TZNAME:EDT
DTSTART:20260308T070000
END:DAYLIGHT
BEGIN:STANDARD
TZOFFSETFROM:-0400
TZOFFSETTO:-0500
TZNAME:EST
DTSTART:20261101T060000
END:STANDARD
BEGIN:DAYLIGHT
TZOFFSETFROM:-0500
TZOFFSETTO:-0400
TZNAME:EDT
DTSTART:20270314T070000
END:DAYLIGHT
BEGIN:STANDARD
TZOFFSETFROM:-0400
TZOFFSETTO:-0500
TZNAME:EST
DTSTART:20271107T060000
END:STANDARD
END:VTIMEZONE
BEGIN:VEVENT
DTSTART;TZID=America/New_York:20260127T100000
DTEND;TZID=America/New_York:20260131T180000
DTSTAMP:20260425T145415
CREATED:20260204T130111Z
LAST-MODIFIED:20260204T130111Z
UID:10053820-1769508000-1769882400@planetprinceton.com
SUMMARY:Princeton Violins Exhibition and Sale of Fine Violins\, Violas and Bows
DESCRIPTION:Princeton Violins is proud to present an extraordinary collection of over fifty fine violins\, violas\, and bows. We also offer a large and unique selection of fine and antique violins in 1/2 and 3/4 sizes\, ideal for younger players seeking exceptional instruments. \nThis event is open to professional and amateur musicians\, teachers\, and students. Dedicated space will be available to try the instruments\, and each participant will have ample time to explore the collection. \nRegistration is required.https://www.princetonviolins.com  \nThe first three customers who purchase an instrument from this collection during the exhibition will receive a complimentary Bam case. We will be happy to answer any questions you may have. \nFounded in 2012\, Princeton Violins is a family-owned business established by violinist and luthier Jarek Powichrowski. His passion for music\, love of the craft of violin making\, and fascination with restoring fine instruments led him to create Princeton Violins to serve the Princeton-area community and beyond.
URL:https://planetprinceton.com/event/princeton-violins-exhibition-and-sale-of-fine-violins-violas-and-bows/
LOCATION:Princeton Violins\, 240 Nassau Street\, Princeton\, 08542
CATEGORIES:Exhibition,Music
ATTACH;FMTTYPE=image/jpeg:https://planetprinceton.com/wp-content/uploads/2026/01/Poster-2026-Exhibition-and-Sale-of-Fine-Violins-Violas-and-Bows-FB-5.5-x-8.5-in.jpg
ORGANIZER;CN="PRINCETON VIOLINS":MAILTO:info@princetonviolins.com
END:VEVENT
END:VCALENDAR