BEGIN:VCALENDAR
VERSION:2.0
PRODID:-//Princeton, NJ local news - ECPv6.15.20//NONSGML v1.0//EN
CALSCALE:GREGORIAN
METHOD:PUBLISH
X-WR-CALNAME:Princeton, NJ local news
X-ORIGINAL-URL:https://planetprinceton.com
X-WR-CALDESC:Events for Princeton, NJ local news
REFRESH-INTERVAL;VALUE=DURATION:PT1H
X-Robots-Tag:noindex
X-PUBLISHED-TTL:PT1H
BEGIN:VTIMEZONE
TZID:America/New_York
BEGIN:DAYLIGHT
TZOFFSETFROM:-0500
TZOFFSETTO:-0400
TZNAME:EDT
DTSTART:20250309T070000
END:DAYLIGHT
BEGIN:STANDARD
TZOFFSETFROM:-0400
TZOFFSETTO:-0500
TZNAME:EST
DTSTART:20251102T060000
END:STANDARD
BEGIN:DAYLIGHT
TZOFFSETFROM:-0500
TZOFFSETTO:-0400
TZNAME:EDT
DTSTART:20260308T070000
END:DAYLIGHT
BEGIN:STANDARD
TZOFFSETFROM:-0400
TZOFFSETTO:-0500
TZNAME:EST
DTSTART:20261101T060000
END:STANDARD
BEGIN:DAYLIGHT
TZOFFSETFROM:-0500
TZOFFSETTO:-0400
TZNAME:EDT
DTSTART:20270314T070000
END:DAYLIGHT
BEGIN:STANDARD
TZOFFSETFROM:-0400
TZOFFSETTO:-0500
TZNAME:EST
DTSTART:20271107T060000
END:STANDARD
END:VTIMEZONE
BEGIN:VEVENT
DTSTART;TZID=America/New_York:20260425T110000
DTEND;TZID=America/New_York:20260425T120000
DTSTAMP:20260422T184855
CREATED:20260416T165927Z
LAST-MODIFIED:20260416T165927Z
UID:10054468-1777114800-1777118400@planetprinceton.com
SUMMARY:Storytime and Book Signing with Roo the Dalmatian at Barnes & Noble at MarketFair
DESCRIPTION:Join Barnes & Noble MarketFair for a fun\, family-friendly story time and book signing featuring Your Uniqueness: Roo the “Kangaroo” Dalmatian. Meet Roo in person during this author event with Keith M. Grierson\, enjoy a live reading\, and get your copy signed. A live dog will be present at the event.
URL:https://planetprinceton.com/event/storytime-and-book-signing-with-roo-the-dalmatian-at-barnes-noble-at-marketfair/
LOCATION:Barnes and Noble\, Market Fair\, 3535 US Highway 1 Suite 400\, Princeton \, NJ\, 08540\, United States
ATTACH;FMTTYPE=image/jpeg:https://planetprinceton.com/wp-content/uploads/2026/04/roo.jpg
GEO:40.3533429;-74.6160467
X-APPLE-STRUCTURED-LOCATION;VALUE=URI;X-ADDRESS=Barnes and Noble Market Fair 3535 US Highway 1 Suite 400 Princeton  NJ 08540 United States;X-APPLE-RADIUS=500;X-TITLE=3535 US Highway 1 Suite 400:geo:-74.6160467,40.3533429
END:VEVENT
END:VCALENDAR