BEGIN:VCALENDAR
VERSION:2.0
PRODID:-//Princeton, NJ local news - ECPv6.15.20//NONSGML v1.0//EN
CALSCALE:GREGORIAN
METHOD:PUBLISH
X-ORIGINAL-URL:https://planetprinceton.com
X-WR-CALDESC:Events for Princeton, NJ local news
REFRESH-INTERVAL;VALUE=DURATION:PT1H
X-Robots-Tag:noindex
X-PUBLISHED-TTL:PT1H
BEGIN:VTIMEZONE
TZID:America/New_York
BEGIN:DAYLIGHT
TZOFFSETFROM:-0500
TZOFFSETTO:-0400
TZNAME:EDT
DTSTART:20250309T070000
END:DAYLIGHT
BEGIN:STANDARD
TZOFFSETFROM:-0400
TZOFFSETTO:-0500
TZNAME:EST
DTSTART:20251102T060000
END:STANDARD
BEGIN:DAYLIGHT
TZOFFSETFROM:-0500
TZOFFSETTO:-0400
TZNAME:EDT
DTSTART:20260308T070000
END:DAYLIGHT
BEGIN:STANDARD
TZOFFSETFROM:-0400
TZOFFSETTO:-0500
TZNAME:EST
DTSTART:20261101T060000
END:STANDARD
BEGIN:DAYLIGHT
TZOFFSETFROM:-0500
TZOFFSETTO:-0400
TZNAME:EDT
DTSTART:20270314T070000
END:DAYLIGHT
BEGIN:STANDARD
TZOFFSETFROM:-0400
TZOFFSETTO:-0500
TZNAME:EST
DTSTART:20271107T060000
END:STANDARD
END:VTIMEZONE
BEGIN:VEVENT
DTSTART;TZID=America/New_York:20260425T100000
DTEND;TZID=America/New_York:20260425T130000
DTSTAMP:20260422T042745
CREATED:20260421T234036Z
LAST-MODIFIED:20260421T234036Z
UID:10054853-1777111200-1777122000@planetprinceton.com
SUMMARY:Framebridge: Professional Portraits
DESCRIPTION:@ 			\n			\n							 \n\nVisit Framebridge in-store on Saturday\, April 25th for a professional portrait\, perfect for framing in a tabletop or custom frame as a Mother’s Day gift! Everyone’s welcome to strike a pose. Receive a free portrait with any frame purchase.   \nPortrait sessions will take about 10-15 minutes. (Be sure to bring anything you’ve been meaning to frame!) If you’d like more than one portrait\, please reserve an additional time slot. Artists can sketch children live on the spot or work from multiple photos. \n\n\n\n\n\n\n\n\n						\n							Add to calendar						 \n\n\n\n									\n										Google Calendar									\n								\n\n									\n										iCalendar									\n								\n\n									\n										Outlook 365									\n								\n\n									\n										Outlook Live
URL:https://planetprinceton.com/event/framebridge-professional-portraits/
LOCATION:Framebridge\, 28 Palmer Square East\, Princeton\, New Jersey\, 08542\, United States
ATTACH;FMTTYPE=image/webp:https://planetprinceton.com/wp-content/uploads/2026/04/framebridge-mothers-day-BwPHk6.webp
END:VEVENT
END:VCALENDAR