BEGIN:VCALENDAR
VERSION:2.0
PRODID:-//Princeton, NJ local news - ECPv6.15.20//NONSGML v1.0//EN
CALSCALE:GREGORIAN
METHOD:PUBLISH
X-ORIGINAL-URL:https://planetprinceton.com
X-WR-CALDESC:Events for Princeton, NJ local news
REFRESH-INTERVAL;VALUE=DURATION:PT1H
X-Robots-Tag:noindex
X-PUBLISHED-TTL:PT1H
BEGIN:VTIMEZONE
TZID:America/New_York
BEGIN:DAYLIGHT
TZOFFSETFROM:-0500
TZOFFSETTO:-0400
TZNAME:EDT
DTSTART:20250309T070000
END:DAYLIGHT
BEGIN:STANDARD
TZOFFSETFROM:-0400
TZOFFSETTO:-0500
TZNAME:EST
DTSTART:20251102T060000
END:STANDARD
BEGIN:DAYLIGHT
TZOFFSETFROM:-0500
TZOFFSETTO:-0400
TZNAME:EDT
DTSTART:20260308T070000
END:DAYLIGHT
BEGIN:STANDARD
TZOFFSETFROM:-0400
TZOFFSETTO:-0500
TZNAME:EST
DTSTART:20261101T060000
END:STANDARD
BEGIN:DAYLIGHT
TZOFFSETFROM:-0500
TZOFFSETTO:-0400
TZNAME:EDT
DTSTART:20270314T070000
END:DAYLIGHT
BEGIN:STANDARD
TZOFFSETFROM:-0400
TZOFFSETTO:-0500
TZNAME:EST
DTSTART:20271107T060000
END:STANDARD
END:VTIMEZONE
BEGIN:VEVENT
DTSTART;TZID=America/New_York:20260408T100000
DTEND;TZID=America/New_York:20260408T160000
DTSTAMP:20260421T161105
CREATED:20260326T182607Z
LAST-MODIFIED:20260326T182607Z
UID:10054420-1775642400-1775664000@planetprinceton.com
SUMMARY:Stony Brook Garden Club Flower Show Open to Public
DESCRIPTION:The Stony Brook Garden Club of Princeton will host “Avant Garden\,” the Garden Club of America’s 2026 Zone IV Flower Show\, at Grounds for Sculpture on Wednesday\, April 8\, 2026 from 10 a.m. to 3:30 p.m. The flower show is open to the public and free of charge. \nSBGC warmly invites the public to experience a day filled with beauty\, creativity\, and education. “Whether you love arranging flowers\, growing them\, or capturing them through a lens\, there’ll be something here for everyone to enjoy and take away\,” says SBGC President Tracy Johnson. \nInspired by our venue\, photographers and floral designers  from all 11 New Jersey GCA Clubs are challenging themselves to create designs inspired by artists from Caldor\, Degas\, and Georgia O’Keefe to Pink Floyd and Christan Dior. The large Horticulture Exhibit shows what is in season in gardens across NJ and a closer look at home propagation of New Jersey Native plants. Finally\, the spectacular Conservation Exhibit\, Avant Stream Science\, is a collaboration with The Watershed Institute\, and Britney O’Donnelll Landscape design. This display is designed to entertain\, educate\, and introduce you to the wonders of advanced water science and the power of Native plants to restore and maintain a healthy water supply. \nThe purpose of a flower show is to set standards of artistic and horticultural excellence; to broaden knowledge of horticulture\, design\, conservation\, photography\, and other related areas and to share the beauty of a show with fellow club members and with the public. \n  \nHighlights of the day will include: \n•  Curated floral sculptures by top designers \n•  Hands-on demonstration of the use of microscopes to see tiny creatures that indicate the health of local streams. \n 
URL:https://planetprinceton.com/event/stony-brook-garden-club-flower-show-open-to-public/
LOCATION:Grounds for Sculpture\, 80 Sculptors Way\, Hamilton\, NJ\, United States
GEO:40.2369838;-74.7189839
X-APPLE-STRUCTURED-LOCATION;VALUE=URI;X-ADDRESS=Grounds for Sculpture 80 Sculptors Way Hamilton NJ United States;X-APPLE-RADIUS=500;X-TITLE=80 Sculptors Way:geo:-74.7189839,40.2369838
END:VEVENT
END:VCALENDAR