BEGIN:VCALENDAR
VERSION:2.0
PRODID:-//Princeton, NJ local news - ECPv6.15.20//NONSGML v1.0//EN
CALSCALE:GREGORIAN
METHOD:PUBLISH
X-WR-CALNAME:Princeton, NJ local news
X-ORIGINAL-URL:https://planetprinceton.com
X-WR-CALDESC:Events for Princeton, NJ local news
REFRESH-INTERVAL;VALUE=DURATION:PT1H
X-Robots-Tag:noindex
X-PUBLISHED-TTL:PT1H
BEGIN:VTIMEZONE
TZID:America/New_York
BEGIN:DAYLIGHT
TZOFFSETFROM:-0500
TZOFFSETTO:-0400
TZNAME:EDT
DTSTART:20250309T070000
END:DAYLIGHT
BEGIN:STANDARD
TZOFFSETFROM:-0400
TZOFFSETTO:-0500
TZNAME:EST
DTSTART:20251102T060000
END:STANDARD
BEGIN:DAYLIGHT
TZOFFSETFROM:-0500
TZOFFSETTO:-0400
TZNAME:EDT
DTSTART:20260308T070000
END:DAYLIGHT
BEGIN:STANDARD
TZOFFSETFROM:-0400
TZOFFSETTO:-0500
TZNAME:EST
DTSTART:20261101T060000
END:STANDARD
BEGIN:DAYLIGHT
TZOFFSETFROM:-0500
TZOFFSETTO:-0400
TZNAME:EDT
DTSTART:20270314T070000
END:DAYLIGHT
BEGIN:STANDARD
TZOFFSETFROM:-0400
TZOFFSETTO:-0500
TZNAME:EST
DTSTART:20271107T060000
END:STANDARD
BEGIN:DAYLIGHT
TZOFFSETFROM:-0500
TZOFFSETTO:-0400
TZNAME:EDT
DTSTART:20280312T070000
END:DAYLIGHT
BEGIN:STANDARD
TZOFFSETFROM:-0400
TZOFFSETTO:-0500
TZNAME:EST
DTSTART:20281105T060000
END:STANDARD
END:VTIMEZONE
BEGIN:VEVENT
DTSTART;TZID=America/New_York:20260317T080000
DTEND;TZID=America/New_York:20270317T123000
DTSTAMP:20260421T092602
CREATED:20260218T132413Z
LAST-MODIFIED:20260218T132413Z
UID:10054236-1773734400-1805286600@planetprinceton.com
SUMMARY:Princeton Community Works 2026
DESCRIPTION:A hallmark of this year’s program is a series of thoughtfully designed workshops that will each produce three practical outcomes participants can use immediately in their work\, volunteer efforts\, and community life. These sessions are intended to move beyond discussion to deliver tangible tools\, strategies\, and relationships that can be applied right away.
URL:https://planetprinceton.com/event/princeton-community-works-2026/
LOCATION:Mercer County Community College Conference Center\, NJ\, United States
ATTACH;FMTTYPE=image/jpeg:https://planetprinceton.com/wp-content/uploads/2026/02/Better-PCW-Logo.jpg
ORGANIZER;CN="Princeton Community Works":MAILTO:info@princetoncommunityworks.org
END:VEVENT
END:VCALENDAR