BEGIN:VCALENDAR
VERSION:2.0
PRODID:-//Princeton, NJ local news - ECPv6.15.20//NONSGML v1.0//EN
CALSCALE:GREGORIAN
METHOD:PUBLISH
X-ORIGINAL-URL:https://planetprinceton.com
X-WR-CALDESC:Events for Princeton, NJ local news
REFRESH-INTERVAL;VALUE=DURATION:PT1H
X-Robots-Tag:noindex
X-PUBLISHED-TTL:PT1H
BEGIN:VTIMEZONE
TZID:America/New_York
BEGIN:DAYLIGHT
TZOFFSETFROM:-0500
TZOFFSETTO:-0400
TZNAME:EDT
DTSTART:20250309T070000
END:DAYLIGHT
BEGIN:STANDARD
TZOFFSETFROM:-0400
TZOFFSETTO:-0500
TZNAME:EST
DTSTART:20251102T060000
END:STANDARD
BEGIN:DAYLIGHT
TZOFFSETFROM:-0500
TZOFFSETTO:-0400
TZNAME:EDT
DTSTART:20260308T070000
END:DAYLIGHT
BEGIN:STANDARD
TZOFFSETFROM:-0400
TZOFFSETTO:-0500
TZNAME:EST
DTSTART:20261101T060000
END:STANDARD
BEGIN:DAYLIGHT
TZOFFSETFROM:-0500
TZOFFSETTO:-0400
TZNAME:EDT
DTSTART:20270314T070000
END:DAYLIGHT
BEGIN:STANDARD
TZOFFSETFROM:-0400
TZOFFSETTO:-0500
TZNAME:EST
DTSTART:20271107T060000
END:STANDARD
END:VTIMEZONE
BEGIN:VEVENT
DTSTART;TZID=America/New_York:20260206T193000
DTEND;TZID=America/New_York:20260206T210000
DTSTAMP:20260422T182008
CREATED:20260204T130110Z
LAST-MODIFIED:20260204T130110Z
UID:10053818-1770406200-1770411600@planetprinceton.com
SUMMARY:TCNJ Faculty Artist Series Featuring: Joshua Kovach & Kathleen Mitchell
DESCRIPTION:Join TCNJ Department of Music for the first Faculty Artist Recital of this semester\, featuring Joshua Kovach\, clarinet\, and Kathleen Mitchell\, saxophone.  \nThe program opens with a transcription of Ginastera’s vibrant Tres Danzas Argentinas\, the composer’s first published and most beloved work. From there\, the concert highlights international voices\, including Hungarian clarinetist Béla Kovács’evocative Hommage à Manuel de Falla and Jamaican-born British composer Eleanor Alberga’s Duo\, drawn from her ballet Dancing with the Shadow. Contemporary influences surface in Andrián Pertout’s Riesenschritte\, inspired by Coltrane’s groundbreaking Giant Steps\, and in Ronald L. Caravan’s arrangement of Paquito D’Rivera’s La Fleur de Cayenne\, infused with the rhythms of the Venezuelan joropo. The program also features Victor Morosco’s Blue Caprice\, a blues-inflected passacaglia that bridges classical form with jazz tradition.  \nTogether\, these works create a rich and eclectic evening\, weaving folk influences\, jazz language\, and contemporary voices into a vibrant tapestry of sound. \nGet tickets here: https://tcnjcenterforthearts.universitytickets.com/w/event.aspx?id=1689
URL:https://planetprinceton.com/event/tcnj-faculty-artist-series-featuring-joshua-kovach-kathleen-mitchell/
LOCATION:TCNJ\, Mildred & Ernest E. Mayo Concert Hall [Music Building]\, 2000 Pennington Road\, Ewing\, NJ\, 08628
ATTACH;FMTTYPE=image/jpeg:https://planetprinceton.com/wp-content/uploads/2026/01/S26-—-Individual-FB-IG-Posts-4-FB-Faculty-Recital-Series-1080-x-1350.jpg
ORGANIZER;CN="TCNJ Center for the Arts":MAILTO:centered@tcnj.edu
END:VEVENT
END:VCALENDAR