BEGIN:VCALENDAR
VERSION:2.0
PRODID:-//Princeton, NJ local news - ECPv6.15.20//NONSGML v1.0//EN
CALSCALE:GREGORIAN
METHOD:PUBLISH
X-ORIGINAL-URL:https://planetprinceton.com
X-WR-CALDESC:Events for Princeton, NJ local news
REFRESH-INTERVAL;VALUE=DURATION:PT1H
X-Robots-Tag:noindex
X-PUBLISHED-TTL:PT1H
BEGIN:VTIMEZONE
TZID:America/New_York
BEGIN:DAYLIGHT
TZOFFSETFROM:-0500
TZOFFSETTO:-0400
TZNAME:EDT
DTSTART:20250309T070000
END:DAYLIGHT
BEGIN:STANDARD
TZOFFSETFROM:-0400
TZOFFSETTO:-0500
TZNAME:EST
DTSTART:20251102T060000
END:STANDARD
BEGIN:DAYLIGHT
TZOFFSETFROM:-0500
TZOFFSETTO:-0400
TZNAME:EDT
DTSTART:20260308T070000
END:DAYLIGHT
BEGIN:STANDARD
TZOFFSETFROM:-0400
TZOFFSETTO:-0500
TZNAME:EST
DTSTART:20261101T060000
END:STANDARD
BEGIN:DAYLIGHT
TZOFFSETFROM:-0500
TZOFFSETTO:-0400
TZNAME:EDT
DTSTART:20270314T070000
END:DAYLIGHT
BEGIN:STANDARD
TZOFFSETFROM:-0400
TZOFFSETTO:-0500
TZNAME:EST
DTSTART:20271107T060000
END:STANDARD
END:VTIMEZONE
BEGIN:VEVENT
DTSTART;TZID=America/New_York:20260208T110000
DTEND;TZID=America/New_York:20260208T113000
DTSTAMP:20260421T203654
CREATED:20260204T130110Z
LAST-MODIFIED:20260204T130110Z
UID:10053810-1770548400-1770550200@planetprinceton.com
SUMMARY:Buffalo Chicken Slider Making Class at Williams Sonoma MarketFair
DESCRIPTION:Sauté like a chef! Learn how easy it is to sauté in stainless steel while we make Buffalo chicken sliders for game day using our Thermo-Clad cookware.
URL:https://planetprinceton.com/event/buffalo-chicken-slider-making-class-at-williams-sonoma-marketfair/
LOCATION:Williams Sonoma MarketFair\, 3535 Us Highway 1\, Space 312\, Princeton\, NJ\, 08540 5903\, United States
ATTACH;FMTTYPE=image/jpeg:https://planetprinceton.com/wp-content/uploads/2026/01/Events-Thumbnail-Image.jpg
END:VEVENT
END:VCALENDAR