BEGIN:VCALENDAR
VERSION:2.0
PRODID:-//Princeton, NJ local news - ECPv6.15.20//NONSGML v1.0//EN
CALSCALE:GREGORIAN
METHOD:PUBLISH
X-WR-CALNAME:Princeton, NJ local news
X-ORIGINAL-URL:https://planetprinceton.com
X-WR-CALDESC:Events for Princeton, NJ local news
REFRESH-INTERVAL;VALUE=DURATION:PT1H
X-Robots-Tag:noindex
X-PUBLISHED-TTL:PT1H
BEGIN:VTIMEZONE
TZID:America/New_York
BEGIN:DAYLIGHT
TZOFFSETFROM:-0500
TZOFFSETTO:-0400
TZNAME:EDT
DTSTART:20250309T070000
END:DAYLIGHT
BEGIN:STANDARD
TZOFFSETFROM:-0400
TZOFFSETTO:-0500
TZNAME:EST
DTSTART:20251102T060000
END:STANDARD
BEGIN:DAYLIGHT
TZOFFSETFROM:-0500
TZOFFSETTO:-0400
TZNAME:EDT
DTSTART:20260308T070000
END:DAYLIGHT
BEGIN:STANDARD
TZOFFSETFROM:-0400
TZOFFSETTO:-0500
TZNAME:EST
DTSTART:20261101T060000
END:STANDARD
BEGIN:DAYLIGHT
TZOFFSETFROM:-0500
TZOFFSETTO:-0400
TZNAME:EDT
DTSTART:20270314T070000
END:DAYLIGHT
BEGIN:STANDARD
TZOFFSETFROM:-0400
TZOFFSETTO:-0500
TZNAME:EST
DTSTART:20271107T060000
END:STANDARD
END:VTIMEZONE
BEGIN:VEVENT
DTSTART;TZID=America/New_York:20260426T110000
DTEND;TZID=America/New_York:20260426T113000
DTSTAMP:20260421T190805
CREATED:20260416T165927Z
LAST-MODIFIED:20260416T165927Z
UID:10054469-1777201200-1777203000@planetprinceton.com
SUMMARY:Cacio E Pepe Shells Cooking Class at Williams Sonoma at MarketFair
DESCRIPTION:Williams Sonoma MarketFair presents a hands-on cooking class featuring a weeknight-friendly take on the Italian favorite\, cacio e pepe. In this 30-minute session\, guests will learn how to prepare flavorful cacio e pepe shells\, with tips made simple using the Breville+ Cooking app. This class offers an easy and delicious way to elevate your weeknight dinner routine!
URL:https://planetprinceton.com/event/cacio-e-pepe-shells-cooking-class-at-williams-sonoma-at-marketfair/
LOCATION:Williams Sonoma MarketFair\, 3535 Us Highway 1\, Space 312\, Princeton\, NJ\, 08540 5903\, United States
ATTACH;FMTTYPE=image/jpeg:https://planetprinceton.com/wp-content/uploads/2026/04/williams.jpg
END:VEVENT
END:VCALENDAR