BEGIN:VCALENDAR
VERSION:2.0
PRODID:-//Princeton, NJ local news - ECPv6.15.20//NONSGML v1.0//EN
CALSCALE:GREGORIAN
METHOD:PUBLISH
X-WR-CALNAME:Princeton, NJ local news
X-ORIGINAL-URL:https://planetprinceton.com
X-WR-CALDESC:Events for Princeton, NJ local news
REFRESH-INTERVAL;VALUE=DURATION:PT1H
X-Robots-Tag:noindex
X-PUBLISHED-TTL:PT1H
BEGIN:VTIMEZONE
TZID:America/New_York
BEGIN:DAYLIGHT
TZOFFSETFROM:-0500
TZOFFSETTO:-0400
TZNAME:EDT
DTSTART:20250309T070000
END:DAYLIGHT
BEGIN:STANDARD
TZOFFSETFROM:-0400
TZOFFSETTO:-0500
TZNAME:EST
DTSTART:20251102T060000
END:STANDARD
BEGIN:DAYLIGHT
TZOFFSETFROM:-0500
TZOFFSETTO:-0400
TZNAME:EDT
DTSTART:20260308T070000
END:DAYLIGHT
BEGIN:STANDARD
TZOFFSETFROM:-0400
TZOFFSETTO:-0500
TZNAME:EST
DTSTART:20261101T060000
END:STANDARD
BEGIN:DAYLIGHT
TZOFFSETFROM:-0500
TZOFFSETTO:-0400
TZNAME:EDT
DTSTART:20270314T070000
END:DAYLIGHT
BEGIN:STANDARD
TZOFFSETFROM:-0400
TZOFFSETTO:-0500
TZNAME:EST
DTSTART:20271107T060000
END:STANDARD
END:VTIMEZONE
BEGIN:VEVENT
DTSTART;TZID=America/New_York:20260510T103000
DTEND;TZID=America/New_York:20260510T143000
DTSTAMP:20260422T044348
CREATED:20260421T234036Z
LAST-MODIFIED:20260421T234036Z
UID:10054859-1778409000-1778423400@planetprinceton.com
SUMMARY:Winberie’s Restaurant & Bar: Mother’s Day Brunch
DESCRIPTION:@ 			\n			\n							 \n\nJoin Winberie’s Restaurant & Bar for a special Mother’s Day Brunch menu on Sunday\, May 10th from 10:30am-2:30pm. Book a reservation today! \n\n\n\n\n\n\n\n\n						\n							Add to calendar						 \n\n\n\n									\n										Google Calendar									\n								\n\n									\n										iCalendar									\n								\n\n									\n										Outlook 365									\n								\n\n									\n										Outlook Live
URL:https://planetprinceton.com/event/winberies-restaurant-bar-mothers-day-brunch/
LOCATION:Winberie’s Restaurant & Bar\, 1 Palmer Square\, Princeton\, NJ\, 08542\, United States
ATTACH;FMTTYPE=image/webp:https://planetprinceton.com/wp-content/uploads/2026/04/img_0442-scaled-megBIr.webp
END:VEVENT
END:VCALENDAR